BEGIN:VCALENDAR
PRODID:-//AT Content Types//AT Event//EN
VERSION:1.0
BEGIN:VEVENT
DTSTART:20121215T083000Z
DTEND:20121215T100000Z
DCREATED:20121214T110001Z
UID:ATEvent-132b88efb396fd6c191c0fb159396efb
SEQUENCE:0
LAST-MODIFIED:20121214T110816Z
SUMMARY:Un premio alle aziende che rispettano l'ambiente
DESCRIPTION:Sabato 15 dicembre ore 9.30 – Villa Cordellina Lombardi
PRIORITY:3
TRANSP:0
END:VEVENT
END:VCALENDAR
