BEGIN:VCALENDAR
PRODID:-//AT Content Types//AT Event//EN
VERSION:2.0
METHOD:PUBLISH
BEGIN:VEVENT
DTSTAMP:20260424T021719Z
CREATED:20231218T133105Z
UID:ATEvent-48c4af2f715b439f93c50714f597effb
LAST-MODIFIED:20231218T133130Z
SUMMARY:Maratona Bilancio: Consiglio Provinciale + Assemblea dei Sindaci
DTSTART:20231219T140000Z
DTEND:20231219T170000Z
CLASS:PUBLIC
END:VEVENT
END:VCALENDAR
