BEGIN:VCALENDAR
PRODID:-//AT Content Types//AT Event//EN
VERSION:1.0
BEGIN:VEVENT
DTSTART:20120216T080000Z
DTEND:20120216T123000Z
DCREATED:20120201T121319Z
UID:ATEvent-303cbaca263cbbcf6f6607771ccb15ea
SEQUENCE:0
LAST-MODIFIED:20120203T114302Z
SUMMARY:Il 16 febbraio un convegno per il futuro delle Province
PRIORITY:3
TRANSP:0
END:VEVENT
END:VCALENDAR
