BEGIN:VCALENDAR
PRODID:-//AT Content Types//AT Event//EN
VERSION:2.0
METHOD:PUBLISH
BEGIN:VEVENT
DTSTAMP:20260424T101348Z
CREATED:20120914T092513Z
UID:ATEvent-06315417fff2622ba2e4de2cbcaac5af
LAST-MODIFIED:20121004T135202Z
SUMMARY:Dal 14 al 16 settembre torna la festa dell'"oro blu"
DTSTART:20120914T085500Z
DTEND:20120914T085500Z
CLASS:PUBLIC
END:VEVENT
END:VCALENDAR
