BEGIN:VCALENDAR
PRODID:-//AT Content Types//AT Event//EN
VERSION:2.0
METHOD:PUBLISH
BEGIN:VEVENT
DTSTAMP:20260424T084508Z
CREATED:20220722T092558Z
UID:ATEvent-7a419366b7d14c6f9f71f13555db4fdc
LAST-MODIFIED:20220722T092606Z
SUMMARY:Consiglio Provinciale lunedì 25 luglio
DTSTART:20220725T130000Z
DTEND:20220725T140000Z
CLASS:PUBLIC
END:VEVENT
END:VCALENDAR
