BEGIN:VCALENDAR
PRODID:-//AT Content Types//AT Event//EN
VERSION:1.0
BEGIN:VEVENT
DTSTART:20210125T150000Z
DTEND:20210125T160000Z
DCREATED:20210121T115525Z
UID:ATEvent-4bebbdd1272b44dd9998efea0babafed
SEQUENCE:0
LAST-MODIFIED:20210121T120639Z
SUMMARY:Consiglio Provinciale lunedì 25 gennaio: approvazione del bilancio di previsione 2021-2023
PRIORITY:3
TRANSP:0
END:VEVENT
END:VCALENDAR
