BEGIN:VCALENDAR
PRODID:-//AT Content Types//AT Event//EN
VERSION:2.0
METHOD:PUBLISH
BEGIN:VEVENT
DTSTAMP:20260419T123829Z
CREATED:20251121T122435Z
UID:ATEvent-83b1faadebe742bd882e55d21e7c8e57
LAST-MODIFIED:20251121T122446Z
SUMMARY:Consiglio Provinciale lunedì 24 novembre
DTSTART:20251124T143000Z
DTEND:20251124T153000Z
CLASS:PUBLIC
END:VEVENT
END:VCALENDAR
