BEGIN:VCALENDAR
PRODID:-//AT Content Types//AT Event//EN
VERSION:1.0
BEGIN:VEVENT
DTSTART:20220926T130000Z
DTEND:20220926T150000Z
DCREATED:20220921T075210Z
UID:ATEvent-9af46b748f444b0099cb7190c069e5b7
SEQUENCE:0
LAST-MODIFIED:20220921T075223Z
SUMMARY:Consiglio Provinciale bilancio consolidato
PRIORITY:3
TRANSP:0
END:VEVENT
END:VCALENDAR
