BEGIN:VCALENDAR
PRODID:-//AT Content Types//AT Event//EN
VERSION:1.0
BEGIN:VEVENT
DTSTART:20220105T133000Z
DTEND:20220105T143000Z
DCREATED:20211228T152729Z
UID:ATEvent-bf1df6de5ecf40baafc0a311872f0e98
SEQUENCE:0
LAST-MODIFIED:20211228T152736Z
SUMMARY:Consiglio provinciale 5 gennaio per la convalida degli eletti
PRIORITY:3
TRANSP:0
END:VEVENT
END:VCALENDAR
